BEGIN:VCALENDAR
VERSION:2.0
PRODID:-//Performing Arts Center For African Cultures - ECPv6.15.20//NONSGML v1.0//EN
CALSCALE:GREGORIAN
METHOD:PUBLISH
X-WR-CALNAME:Performing Arts Center For African Cultures
X-ORIGINAL-URL:https://pacafricancultures.org
X-WR-CALDESC:Events for Performing Arts Center For African Cultures
REFRESH-INTERVAL;VALUE=DURATION:PT1H
X-Robots-Tag:noindex
X-PUBLISHED-TTL:PT1H
BEGIN:VTIMEZONE
TZID:America/New_York
BEGIN:DAYLIGHT
TZOFFSETFROM:-0500
TZOFFSETTO:-0400
TZNAME:EDT
DTSTART:20250309T070000
END:DAYLIGHT
BEGIN:STANDARD
TZOFFSETFROM:-0400
TZOFFSETTO:-0500
TZNAME:EST
DTSTART:20251102T060000
END:STANDARD
BEGIN:DAYLIGHT
TZOFFSETFROM:-0500
TZOFFSETTO:-0400
TZNAME:EDT
DTSTART:20260308T070000
END:DAYLIGHT
BEGIN:STANDARD
TZOFFSETFROM:-0400
TZOFFSETTO:-0500
TZNAME:EST
DTSTART:20261101T060000
END:STANDARD
BEGIN:DAYLIGHT
TZOFFSETFROM:-0500
TZOFFSETTO:-0400
TZNAME:EDT
DTSTART:20270314T070000
END:DAYLIGHT
BEGIN:STANDARD
TZOFFSETFROM:-0400
TZOFFSETTO:-0500
TZNAME:EST
DTSTART:20271107T060000
END:STANDARD
BEGIN:DAYLIGHT
TZOFFSETFROM:-0500
TZOFFSETTO:-0400
TZNAME:EDT
DTSTART:20280312T070000
END:DAYLIGHT
BEGIN:STANDARD
TZOFFSETFROM:-0400
TZOFFSETTO:-0500
TZNAME:EST
DTSTART:20281105T060000
END:STANDARD
END:VTIMEZONE
BEGIN:VEVENT
DTSTART;TZID=America/New_York:20260504T200000
DTEND;TZID=America/New_York:20260504T210000
DTSTAMP:20260424T135345
CREATED:20180611T005251Z
LAST-MODIFIED:20180611T005251Z
UID:4354-1777924800-1777928400@pacafricancultures.org
SUMMARY:Afro Yoga
DESCRIPTION:In this class we will take you through the yoga movements with rhythms reflective of the Afro-Caribbean culture. \nBring your mat\, towel and water!
URL:https://pacafricancultures.org/event/afro-yoga/2026-05-04/
LOCATION:PACAC\, 8576 Laureldale Drive\, Laurel\, MD\, 20724\, United States
GEO:39.1018579;-76.8216453
X-APPLE-STRUCTURED-LOCATION;VALUE=URI;X-ADDRESS=PACAC 8576 Laureldale Drive Laurel MD 20724 United States;X-APPLE-RADIUS=500;X-TITLE=8576 Laureldale Drive:geo:-76.8216453,39.1018579
END:VEVENT
BEGIN:VEVENT
DTSTART;TZID=America/New_York:20260518T200000
DTEND;TZID=America/New_York:20260518T210000
DTSTAMP:20260424T135345
CREATED:20180611T005251Z
LAST-MODIFIED:20180611T005251Z
UID:4359-1779134400-1779138000@pacafricancultures.org
SUMMARY:Afro Yoga
DESCRIPTION:In this class we will take you through the yoga movements with rhythms reflective of the Afro-Caribbean culture. \nBring your mat\, towel and water!
URL:https://pacafricancultures.org/event/afro-yoga/2026-05-18/
LOCATION:PACAC\, 8576 Laureldale Drive\, Laurel\, MD\, 20724\, United States
GEO:39.1018579;-76.8216453
X-APPLE-STRUCTURED-LOCATION;VALUE=URI;X-ADDRESS=PACAC 8576 Laureldale Drive Laurel MD 20724 United States;X-APPLE-RADIUS=500;X-TITLE=8576 Laureldale Drive:geo:-76.8216453,39.1018579
END:VEVENT
BEGIN:VEVENT
DTSTART;TZID=America/New_York:20260601T200000
DTEND;TZID=America/New_York:20260601T210000
DTSTAMP:20260424T135345
CREATED:20180611T005251Z
LAST-MODIFIED:20180611T005251Z
UID:4364-1780344000-1780347600@pacafricancultures.org
SUMMARY:Afro Yoga
DESCRIPTION:In this class we will take you through the yoga movements with rhythms reflective of the Afro-Caribbean culture. \nBring your mat\, towel and water!
URL:https://pacafricancultures.org/event/afro-yoga/2026-06-01/
LOCATION:PACAC\, 8576 Laureldale Drive\, Laurel\, MD\, 20724\, United States
GEO:39.1018579;-76.8216453
X-APPLE-STRUCTURED-LOCATION;VALUE=URI;X-ADDRESS=PACAC 8576 Laureldale Drive Laurel MD 20724 United States;X-APPLE-RADIUS=500;X-TITLE=8576 Laureldale Drive:geo:-76.8216453,39.1018579
END:VEVENT
BEGIN:VEVENT
DTSTART;TZID=America/New_York:20260615T200000
DTEND;TZID=America/New_York:20260615T210000
DTSTAMP:20260424T135345
CREATED:20180611T005251Z
LAST-MODIFIED:20180611T005251Z
UID:4372-1781553600-1781557200@pacafricancultures.org
SUMMARY:Afro Yoga
DESCRIPTION:In this class we will take you through the yoga movements with rhythms reflective of the Afro-Caribbean culture. \nBring your mat\, towel and water!
URL:https://pacafricancultures.org/event/afro-yoga/2026-06-15/
LOCATION:PACAC\, 8576 Laureldale Drive\, Laurel\, MD\, 20724\, United States
GEO:39.1018579;-76.8216453
X-APPLE-STRUCTURED-LOCATION;VALUE=URI;X-ADDRESS=PACAC 8576 Laureldale Drive Laurel MD 20724 United States;X-APPLE-RADIUS=500;X-TITLE=8576 Laureldale Drive:geo:-76.8216453,39.1018579
END:VEVENT
BEGIN:VEVENT
DTSTART;TZID=America/New_York:20260629T200000
DTEND;TZID=America/New_York:20260629T210000
DTSTAMP:20260424T135345
CREATED:20180611T005251Z
LAST-MODIFIED:20180611T005251Z
UID:4377-1782763200-1782766800@pacafricancultures.org
SUMMARY:Afro Yoga
DESCRIPTION:In this class we will take you through the yoga movements with rhythms reflective of the Afro-Caribbean culture. \nBring your mat\, towel and water!
URL:https://pacafricancultures.org/event/afro-yoga/2026-06-29/
LOCATION:PACAC\, 8576 Laureldale Drive\, Laurel\, MD\, 20724\, United States
GEO:39.1018579;-76.8216453
X-APPLE-STRUCTURED-LOCATION;VALUE=URI;X-ADDRESS=PACAC 8576 Laureldale Drive Laurel MD 20724 United States;X-APPLE-RADIUS=500;X-TITLE=8576 Laureldale Drive:geo:-76.8216453,39.1018579
END:VEVENT
BEGIN:VEVENT
DTSTART;TZID=America/New_York:20260713T200000
DTEND;TZID=America/New_York:20260713T210000
DTSTAMP:20260424T135345
CREATED:20180611T005251Z
LAST-MODIFIED:20180611T005251Z
UID:4382-1783972800-1783976400@pacafricancultures.org
SUMMARY:Afro Yoga
DESCRIPTION:In this class we will take you through the yoga movements with rhythms reflective of the Afro-Caribbean culture. \nBring your mat\, towel and water!
URL:https://pacafricancultures.org/event/afro-yoga/2026-07-13/
LOCATION:PACAC\, 8576 Laureldale Drive\, Laurel\, MD\, 20724\, United States
GEO:39.1018579;-76.8216453
X-APPLE-STRUCTURED-LOCATION;VALUE=URI;X-ADDRESS=PACAC 8576 Laureldale Drive Laurel MD 20724 United States;X-APPLE-RADIUS=500;X-TITLE=8576 Laureldale Drive:geo:-76.8216453,39.1018579
END:VEVENT
BEGIN:VEVENT
DTSTART;TZID=America/New_York:20260727T200000
DTEND;TZID=America/New_York:20260727T210000
DTSTAMP:20260424T135345
CREATED:20180611T005251Z
LAST-MODIFIED:20180611T005251Z
UID:4391-1785182400-1785186000@pacafricancultures.org
SUMMARY:Afro Yoga
DESCRIPTION:In this class we will take you through the yoga movements with rhythms reflective of the Afro-Caribbean culture. \nBring your mat\, towel and water!
URL:https://pacafricancultures.org/event/afro-yoga/2026-07-27/
LOCATION:PACAC\, 8576 Laureldale Drive\, Laurel\, MD\, 20724\, United States
GEO:39.1018579;-76.8216453
X-APPLE-STRUCTURED-LOCATION;VALUE=URI;X-ADDRESS=PACAC 8576 Laureldale Drive Laurel MD 20724 United States;X-APPLE-RADIUS=500;X-TITLE=8576 Laureldale Drive:geo:-76.8216453,39.1018579
END:VEVENT
BEGIN:VEVENT
DTSTART;TZID=America/New_York:20260810T200000
DTEND;TZID=America/New_York:20260810T210000
DTSTAMP:20260424T135345
CREATED:20180611T005251Z
LAST-MODIFIED:20180611T005251Z
UID:4399-1786392000-1786395600@pacafricancultures.org
SUMMARY:Afro Yoga
DESCRIPTION:In this class we will take you through the yoga movements with rhythms reflective of the Afro-Caribbean culture. \nBring your mat\, towel and water!
URL:https://pacafricancultures.org/event/afro-yoga/2026-08-10/
LOCATION:PACAC\, 8576 Laureldale Drive\, Laurel\, MD\, 20724\, United States
GEO:39.1018579;-76.8216453
X-APPLE-STRUCTURED-LOCATION;VALUE=URI;X-ADDRESS=PACAC 8576 Laureldale Drive Laurel MD 20724 United States;X-APPLE-RADIUS=500;X-TITLE=8576 Laureldale Drive:geo:-76.8216453,39.1018579
END:VEVENT
BEGIN:VEVENT
DTSTART;TZID=America/New_York:20260824T200000
DTEND;TZID=America/New_York:20260824T210000
DTSTAMP:20260424T135345
CREATED:20180611T005251Z
LAST-MODIFIED:20180611T005251Z
UID:4408-1787601600-1787605200@pacafricancultures.org
SUMMARY:Afro Yoga
DESCRIPTION:In this class we will take you through the yoga movements with rhythms reflective of the Afro-Caribbean culture. \nBring your mat\, towel and water!
URL:https://pacafricancultures.org/event/afro-yoga/2026-08-24/
LOCATION:PACAC\, 8576 Laureldale Drive\, Laurel\, MD\, 20724\, United States
GEO:39.1018579;-76.8216453
X-APPLE-STRUCTURED-LOCATION;VALUE=URI;X-ADDRESS=PACAC 8576 Laureldale Drive Laurel MD 20724 United States;X-APPLE-RADIUS=500;X-TITLE=8576 Laureldale Drive:geo:-76.8216453,39.1018579
END:VEVENT
BEGIN:VEVENT
DTSTART;TZID=America/New_York:20260907T200000
DTEND;TZID=America/New_York:20260907T210000
DTSTAMP:20260424T135345
CREATED:20180611T005251Z
LAST-MODIFIED:20180611T005251Z
UID:4413-1788811200-1788814800@pacafricancultures.org
SUMMARY:Afro Yoga
DESCRIPTION:In this class we will take you through the yoga movements with rhythms reflective of the Afro-Caribbean culture. \nBring your mat\, towel and water!
URL:https://pacafricancultures.org/event/afro-yoga/2026-09-07/
LOCATION:PACAC\, 8576 Laureldale Drive\, Laurel\, MD\, 20724\, United States
GEO:39.1018579;-76.8216453
X-APPLE-STRUCTURED-LOCATION;VALUE=URI;X-ADDRESS=PACAC 8576 Laureldale Drive Laurel MD 20724 United States;X-APPLE-RADIUS=500;X-TITLE=8576 Laureldale Drive:geo:-76.8216453,39.1018579
END:VEVENT
BEGIN:VEVENT
DTSTART;TZID=America/New_York:20260921T200000
DTEND;TZID=America/New_York:20260921T210000
DTSTAMP:20260424T135345
CREATED:20180611T005251Z
LAST-MODIFIED:20180611T005251Z
UID:4418-1790020800-1790024400@pacafricancultures.org
SUMMARY:Afro Yoga
DESCRIPTION:In this class we will take you through the yoga movements with rhythms reflective of the Afro-Caribbean culture. \nBring your mat\, towel and water!
URL:https://pacafricancultures.org/event/afro-yoga/2026-09-21/
LOCATION:PACAC\, 8576 Laureldale Drive\, Laurel\, MD\, 20724\, United States
GEO:39.1018579;-76.8216453
X-APPLE-STRUCTURED-LOCATION;VALUE=URI;X-ADDRESS=PACAC 8576 Laureldale Drive Laurel MD 20724 United States;X-APPLE-RADIUS=500;X-TITLE=8576 Laureldale Drive:geo:-76.8216453,39.1018579
END:VEVENT
BEGIN:VEVENT
DTSTART;TZID=America/New_York:20261005T200000
DTEND;TZID=America/New_York:20261005T210000
DTSTAMP:20260424T135345
CREATED:20180611T005251Z
LAST-MODIFIED:20180611T005251Z
UID:4425-1791230400-1791234000@pacafricancultures.org
SUMMARY:Afro Yoga
DESCRIPTION:In this class we will take you through the yoga movements with rhythms reflective of the Afro-Caribbean culture. \nBring your mat\, towel and water!
URL:https://pacafricancultures.org/event/afro-yoga/2026-10-05/
LOCATION:PACAC\, 8576 Laureldale Drive\, Laurel\, MD\, 20724\, United States
GEO:39.1018579;-76.8216453
X-APPLE-STRUCTURED-LOCATION;VALUE=URI;X-ADDRESS=PACAC 8576 Laureldale Drive Laurel MD 20724 United States;X-APPLE-RADIUS=500;X-TITLE=8576 Laureldale Drive:geo:-76.8216453,39.1018579
END:VEVENT
BEGIN:VEVENT
DTSTART;TZID=America/New_York:20261019T200000
DTEND;TZID=America/New_York:20261019T210000
DTSTAMP:20260424T135345
CREATED:20180611T005251Z
LAST-MODIFIED:20180611T005251Z
UID:4431-1792440000-1792443600@pacafricancultures.org
SUMMARY:Afro Yoga
DESCRIPTION:In this class we will take you through the yoga movements with rhythms reflective of the Afro-Caribbean culture. \nBring your mat\, towel and water!
URL:https://pacafricancultures.org/event/afro-yoga/2026-10-19/
LOCATION:PACAC\, 8576 Laureldale Drive\, Laurel\, MD\, 20724\, United States
GEO:39.1018579;-76.8216453
X-APPLE-STRUCTURED-LOCATION;VALUE=URI;X-ADDRESS=PACAC 8576 Laureldale Drive Laurel MD 20724 United States;X-APPLE-RADIUS=500;X-TITLE=8576 Laureldale Drive:geo:-76.8216453,39.1018579
END:VEVENT
BEGIN:VEVENT
DTSTART;TZID=America/New_York:20261102T200000
DTEND;TZID=America/New_York:20261102T210000
DTSTAMP:20260424T135345
CREATED:20180611T005251Z
LAST-MODIFIED:20180611T005251Z
UID:4436-1793649600-1793653200@pacafricancultures.org
SUMMARY:Afro Yoga
DESCRIPTION:In this class we will take you through the yoga movements with rhythms reflective of the Afro-Caribbean culture. \nBring your mat\, towel and water!
URL:https://pacafricancultures.org/event/afro-yoga/2026-11-02/
LOCATION:PACAC\, 8576 Laureldale Drive\, Laurel\, MD\, 20724\, United States
GEO:39.1018579;-76.8216453
X-APPLE-STRUCTURED-LOCATION;VALUE=URI;X-ADDRESS=PACAC 8576 Laureldale Drive Laurel MD 20724 United States;X-APPLE-RADIUS=500;X-TITLE=8576 Laureldale Drive:geo:-76.8216453,39.1018579
END:VEVENT
BEGIN:VEVENT
DTSTART;TZID=America/New_York:20261116T200000
DTEND;TZID=America/New_York:20261116T210000
DTSTAMP:20260424T135345
CREATED:20180611T005251Z
LAST-MODIFIED:20180611T005251Z
UID:4442-1794859200-1794862800@pacafricancultures.org
SUMMARY:Afro Yoga
DESCRIPTION:In this class we will take you through the yoga movements with rhythms reflective of the Afro-Caribbean culture. \nBring your mat\, towel and water!
URL:https://pacafricancultures.org/event/afro-yoga/2026-11-16/
LOCATION:PACAC\, 8576 Laureldale Drive\, Laurel\, MD\, 20724\, United States
GEO:39.1018579;-76.8216453
X-APPLE-STRUCTURED-LOCATION;VALUE=URI;X-ADDRESS=PACAC 8576 Laureldale Drive Laurel MD 20724 United States;X-APPLE-RADIUS=500;X-TITLE=8576 Laureldale Drive:geo:-76.8216453,39.1018579
END:VEVENT
BEGIN:VEVENT
DTSTART;TZID=America/New_York:20261130T200000
DTEND;TZID=America/New_York:20261130T210000
DTSTAMP:20260424T135345
CREATED:20180611T005251Z
LAST-MODIFIED:20180611T005251Z
UID:4449-1796068800-1796072400@pacafricancultures.org
SUMMARY:Afro Yoga
DESCRIPTION:In this class we will take you through the yoga movements with rhythms reflective of the Afro-Caribbean culture. \nBring your mat\, towel and water!
URL:https://pacafricancultures.org/event/afro-yoga/2026-11-30/
LOCATION:PACAC\, 8576 Laureldale Drive\, Laurel\, MD\, 20724\, United States
GEO:39.1018579;-76.8216453
X-APPLE-STRUCTURED-LOCATION;VALUE=URI;X-ADDRESS=PACAC 8576 Laureldale Drive Laurel MD 20724 United States;X-APPLE-RADIUS=500;X-TITLE=8576 Laureldale Drive:geo:-76.8216453,39.1018579
END:VEVENT
BEGIN:VEVENT
DTSTART;TZID=America/New_York:20261214T200000
DTEND;TZID=America/New_York:20261214T210000
DTSTAMP:20260424T135345
CREATED:20180611T005251Z
LAST-MODIFIED:20180611T005251Z
UID:4457-1797278400-1797282000@pacafricancultures.org
SUMMARY:Afro Yoga
DESCRIPTION:In this class we will take you through the yoga movements with rhythms reflective of the Afro-Caribbean culture. \nBring your mat\, towel and water!
URL:https://pacafricancultures.org/event/afro-yoga/2026-12-14/
LOCATION:PACAC\, 8576 Laureldale Drive\, Laurel\, MD\, 20724\, United States
GEO:39.1018579;-76.8216453
X-APPLE-STRUCTURED-LOCATION;VALUE=URI;X-ADDRESS=PACAC 8576 Laureldale Drive Laurel MD 20724 United States;X-APPLE-RADIUS=500;X-TITLE=8576 Laureldale Drive:geo:-76.8216453,39.1018579
END:VEVENT
BEGIN:VEVENT
DTSTART;TZID=America/New_York:20261228T200000
DTEND;TZID=America/New_York:20261228T210000
DTSTAMP:20260424T135345
CREATED:20180611T005251Z
LAST-MODIFIED:20180611T005251Z
UID:4466-1798488000-1798491600@pacafricancultures.org
SUMMARY:Afro Yoga
DESCRIPTION:In this class we will take you through the yoga movements with rhythms reflective of the Afro-Caribbean culture. \nBring your mat\, towel and water!
URL:https://pacafricancultures.org/event/afro-yoga/2026-12-28/
LOCATION:PACAC\, 8576 Laureldale Drive\, Laurel\, MD\, 20724\, United States
GEO:39.1018579;-76.8216453
X-APPLE-STRUCTURED-LOCATION;VALUE=URI;X-ADDRESS=PACAC 8576 Laureldale Drive Laurel MD 20724 United States;X-APPLE-RADIUS=500;X-TITLE=8576 Laureldale Drive:geo:-76.8216453,39.1018579
END:VEVENT
BEGIN:VEVENT
DTSTART;TZID=America/New_York:20270111T200000
DTEND;TZID=America/New_York:20270111T210000
DTSTAMP:20260424T135345
CREATED:20180611T005251Z
LAST-MODIFIED:20180611T005251Z
UID:4473-1799697600-1799701200@pacafricancultures.org
SUMMARY:Afro Yoga
DESCRIPTION:In this class we will take you through the yoga movements with rhythms reflective of the Afro-Caribbean culture. \nBring your mat\, towel and water!
URL:https://pacafricancultures.org/event/afro-yoga/2027-01-11/
LOCATION:PACAC\, 8576 Laureldale Drive\, Laurel\, MD\, 20724\, United States
GEO:39.1018579;-76.8216453
X-APPLE-STRUCTURED-LOCATION;VALUE=URI;X-ADDRESS=PACAC 8576 Laureldale Drive Laurel MD 20724 United States;X-APPLE-RADIUS=500;X-TITLE=8576 Laureldale Drive:geo:-76.8216453,39.1018579
END:VEVENT
BEGIN:VEVENT
DTSTART;TZID=America/New_York:20270125T200000
DTEND;TZID=America/New_York:20270125T210000
DTSTAMP:20260424T135345
CREATED:20180611T005251Z
LAST-MODIFIED:20180611T005251Z
UID:4483-1800907200-1800910800@pacafricancultures.org
SUMMARY:Afro Yoga
DESCRIPTION:In this class we will take you through the yoga movements with rhythms reflective of the Afro-Caribbean culture. \nBring your mat\, towel and water!
URL:https://pacafricancultures.org/event/afro-yoga/2027-01-25/
LOCATION:PACAC\, 8576 Laureldale Drive\, Laurel\, MD\, 20724\, United States
GEO:39.1018579;-76.8216453
X-APPLE-STRUCTURED-LOCATION;VALUE=URI;X-ADDRESS=PACAC 8576 Laureldale Drive Laurel MD 20724 United States;X-APPLE-RADIUS=500;X-TITLE=8576 Laureldale Drive:geo:-76.8216453,39.1018579
END:VEVENT
BEGIN:VEVENT
DTSTART;TZID=America/New_York:20270208T200000
DTEND;TZID=America/New_York:20270208T210000
DTSTAMP:20260424T135345
CREATED:20180611T005251Z
LAST-MODIFIED:20180611T005251Z
UID:4493-1802116800-1802120400@pacafricancultures.org
SUMMARY:Afro Yoga
DESCRIPTION:In this class we will take you through the yoga movements with rhythms reflective of the Afro-Caribbean culture. \nBring your mat\, towel and water!
URL:https://pacafricancultures.org/event/afro-yoga/2027-02-08/
LOCATION:PACAC\, 8576 Laureldale Drive\, Laurel\, MD\, 20724\, United States
GEO:39.1018579;-76.8216453
X-APPLE-STRUCTURED-LOCATION;VALUE=URI;X-ADDRESS=PACAC 8576 Laureldale Drive Laurel MD 20724 United States;X-APPLE-RADIUS=500;X-TITLE=8576 Laureldale Drive:geo:-76.8216453,39.1018579
END:VEVENT
BEGIN:VEVENT
DTSTART;TZID=America/New_York:20270222T200000
DTEND;TZID=America/New_York:20270222T210000
DTSTAMP:20260424T135345
CREATED:20180611T005251Z
LAST-MODIFIED:20180611T005251Z
UID:4512-1803326400-1803330000@pacafricancultures.org
SUMMARY:Afro Yoga
DESCRIPTION:In this class we will take you through the yoga movements with rhythms reflective of the Afro-Caribbean culture. \nBring your mat\, towel and water!
URL:https://pacafricancultures.org/event/afro-yoga/2027-02-22/
LOCATION:PACAC\, 8576 Laureldale Drive\, Laurel\, MD\, 20724\, United States
GEO:39.1018579;-76.8216453
X-APPLE-STRUCTURED-LOCATION;VALUE=URI;X-ADDRESS=PACAC 8576 Laureldale Drive Laurel MD 20724 United States;X-APPLE-RADIUS=500;X-TITLE=8576 Laureldale Drive:geo:-76.8216453,39.1018579
END:VEVENT
BEGIN:VEVENT
DTSTART;TZID=America/New_York:20270308T200000
DTEND;TZID=America/New_York:20270308T210000
DTSTAMP:20260424T135345
CREATED:20180611T005251Z
LAST-MODIFIED:20180611T005251Z
UID:4517-1804536000-1804539600@pacafricancultures.org
SUMMARY:Afro Yoga
DESCRIPTION:In this class we will take you through the yoga movements with rhythms reflective of the Afro-Caribbean culture. \nBring your mat\, towel and water!
URL:https://pacafricancultures.org/event/afro-yoga/2027-03-08/
LOCATION:PACAC\, 8576 Laureldale Drive\, Laurel\, MD\, 20724\, United States
GEO:39.1018579;-76.8216453
X-APPLE-STRUCTURED-LOCATION;VALUE=URI;X-ADDRESS=PACAC 8576 Laureldale Drive Laurel MD 20724 United States;X-APPLE-RADIUS=500;X-TITLE=8576 Laureldale Drive:geo:-76.8216453,39.1018579
END:VEVENT
BEGIN:VEVENT
DTSTART;TZID=America/New_York:20270322T200000
DTEND;TZID=America/New_York:20270322T210000
DTSTAMP:20260424T135345
CREATED:20180611T005251Z
LAST-MODIFIED:20180611T005251Z
UID:4527-1805745600-1805749200@pacafricancultures.org
SUMMARY:Afro Yoga
DESCRIPTION:In this class we will take you through the yoga movements with rhythms reflective of the Afro-Caribbean culture. \nBring your mat\, towel and water!
URL:https://pacafricancultures.org/event/afro-yoga/2027-03-22/
LOCATION:PACAC\, 8576 Laureldale Drive\, Laurel\, MD\, 20724\, United States
GEO:39.1018579;-76.8216453
X-APPLE-STRUCTURED-LOCATION;VALUE=URI;X-ADDRESS=PACAC 8576 Laureldale Drive Laurel MD 20724 United States;X-APPLE-RADIUS=500;X-TITLE=8576 Laureldale Drive:geo:-76.8216453,39.1018579
END:VEVENT
BEGIN:VEVENT
DTSTART;TZID=America/New_York:20270405T200000
DTEND;TZID=America/New_York:20270405T210000
DTSTAMP:20260424T135345
CREATED:20180611T005251Z
LAST-MODIFIED:20180611T005251Z
UID:4530-1806955200-1806958800@pacafricancultures.org
SUMMARY:Afro Yoga
DESCRIPTION:In this class we will take you through the yoga movements with rhythms reflective of the Afro-Caribbean culture. \nBring your mat\, towel and water!
URL:https://pacafricancultures.org/event/afro-yoga/2027-04-05/
LOCATION:PACAC\, 8576 Laureldale Drive\, Laurel\, MD\, 20724\, United States
GEO:39.1018579;-76.8216453
X-APPLE-STRUCTURED-LOCATION;VALUE=URI;X-ADDRESS=PACAC 8576 Laureldale Drive Laurel MD 20724 United States;X-APPLE-RADIUS=500;X-TITLE=8576 Laureldale Drive:geo:-76.8216453,39.1018579
END:VEVENT
BEGIN:VEVENT
DTSTART;TZID=America/New_York:20270419T200000
DTEND;TZID=America/New_York:20270419T210000
DTSTAMP:20260424T135345
CREATED:20180611T005251Z
LAST-MODIFIED:20180611T005251Z
UID:4538-1808164800-1808168400@pacafricancultures.org
SUMMARY:Afro Yoga
DESCRIPTION:In this class we will take you through the yoga movements with rhythms reflective of the Afro-Caribbean culture. \nBring your mat\, towel and water!
URL:https://pacafricancultures.org/event/afro-yoga/2027-04-19/
LOCATION:PACAC\, 8576 Laureldale Drive\, Laurel\, MD\, 20724\, United States
GEO:39.1018579;-76.8216453
X-APPLE-STRUCTURED-LOCATION;VALUE=URI;X-ADDRESS=PACAC 8576 Laureldale Drive Laurel MD 20724 United States;X-APPLE-RADIUS=500;X-TITLE=8576 Laureldale Drive:geo:-76.8216453,39.1018579
END:VEVENT
BEGIN:VEVENT
DTSTART;TZID=America/New_York:20270503T200000
DTEND;TZID=America/New_York:20270503T210000
DTSTAMP:20260424T135345
CREATED:20180611T005251Z
LAST-MODIFIED:20180611T005251Z
UID:4543-1809374400-1809378000@pacafricancultures.org
SUMMARY:Afro Yoga
DESCRIPTION:In this class we will take you through the yoga movements with rhythms reflective of the Afro-Caribbean culture. \nBring your mat\, towel and water!
URL:https://pacafricancultures.org/event/afro-yoga/2027-05-03/
LOCATION:PACAC\, 8576 Laureldale Drive\, Laurel\, MD\, 20724\, United States
GEO:39.1018579;-76.8216453
X-APPLE-STRUCTURED-LOCATION;VALUE=URI;X-ADDRESS=PACAC 8576 Laureldale Drive Laurel MD 20724 United States;X-APPLE-RADIUS=500;X-TITLE=8576 Laureldale Drive:geo:-76.8216453,39.1018579
END:VEVENT
BEGIN:VEVENT
DTSTART;TZID=America/New_York:20270517T200000
DTEND;TZID=America/New_York:20270517T210000
DTSTAMP:20260424T135345
CREATED:20180611T005251Z
LAST-MODIFIED:20180611T005251Z
UID:4555-1810584000-1810587600@pacafricancultures.org
SUMMARY:Afro Yoga
DESCRIPTION:In this class we will take you through the yoga movements with rhythms reflective of the Afro-Caribbean culture. \nBring your mat\, towel and water!
URL:https://pacafricancultures.org/event/afro-yoga/2027-05-17/
LOCATION:PACAC\, 8576 Laureldale Drive\, Laurel\, MD\, 20724\, United States
GEO:39.1018579;-76.8216453
X-APPLE-STRUCTURED-LOCATION;VALUE=URI;X-ADDRESS=PACAC 8576 Laureldale Drive Laurel MD 20724 United States;X-APPLE-RADIUS=500;X-TITLE=8576 Laureldale Drive:geo:-76.8216453,39.1018579
END:VEVENT
BEGIN:VEVENT
DTSTART;TZID=America/New_York:20270531T200000
DTEND;TZID=America/New_York:20270531T210000
DTSTAMP:20260424T135345
CREATED:20180611T005251Z
LAST-MODIFIED:20180611T005251Z
UID:4561-1811793600-1811797200@pacafricancultures.org
SUMMARY:Afro Yoga
DESCRIPTION:In this class we will take you through the yoga movements with rhythms reflective of the Afro-Caribbean culture. \nBring your mat\, towel and water!
URL:https://pacafricancultures.org/event/afro-yoga/2027-05-31/
LOCATION:PACAC\, 8576 Laureldale Drive\, Laurel\, MD\, 20724\, United States
GEO:39.1018579;-76.8216453
X-APPLE-STRUCTURED-LOCATION;VALUE=URI;X-ADDRESS=PACAC 8576 Laureldale Drive Laurel MD 20724 United States;X-APPLE-RADIUS=500;X-TITLE=8576 Laureldale Drive:geo:-76.8216453,39.1018579
END:VEVENT
BEGIN:VEVENT
DTSTART;TZID=America/New_York:20270614T200000
DTEND;TZID=America/New_York:20270614T210000
DTSTAMP:20260424T135345
CREATED:20180611T005251Z
LAST-MODIFIED:20180611T005251Z
UID:4571-1813003200-1813006800@pacafricancultures.org
SUMMARY:Afro Yoga
DESCRIPTION:In this class we will take you through the yoga movements with rhythms reflective of the Afro-Caribbean culture. \nBring your mat\, towel and water!
URL:https://pacafricancultures.org/event/afro-yoga/2027-06-14/
LOCATION:PACAC\, 8576 Laureldale Drive\, Laurel\, MD\, 20724\, United States
GEO:39.1018579;-76.8216453
X-APPLE-STRUCTURED-LOCATION;VALUE=URI;X-ADDRESS=PACAC 8576 Laureldale Drive Laurel MD 20724 United States;X-APPLE-RADIUS=500;X-TITLE=8576 Laureldale Drive:geo:-76.8216453,39.1018579
END:VEVENT
END:VCALENDAR