BEGIN:VCALENDAR
VERSION:2.0
PRODID:-//Performing Arts Center For African Cultures - ECPv6.15.20//NONSGML v1.0//EN
CALSCALE:GREGORIAN
METHOD:PUBLISH
X-ORIGINAL-URL:https://pacafricancultures.org
X-WR-CALDESC:Events for Performing Arts Center For African Cultures
REFRESH-INTERVAL;VALUE=DURATION:PT1H
X-Robots-Tag:noindex
X-PUBLISHED-TTL:PT1H
BEGIN:VTIMEZONE
TZID:America/New_York
BEGIN:DAYLIGHT
TZOFFSETFROM:-0500
TZOFFSETTO:-0400
TZNAME:EDT
DTSTART:20150308T070000
END:DAYLIGHT
BEGIN:STANDARD
TZOFFSETFROM:-0400
TZOFFSETTO:-0500
TZNAME:EST
DTSTART:20151101T060000
END:STANDARD
BEGIN:DAYLIGHT
TZOFFSETFROM:-0500
TZOFFSETTO:-0400
TZNAME:EDT
DTSTART:20160313T070000
END:DAYLIGHT
BEGIN:STANDARD
TZOFFSETFROM:-0400
TZOFFSETTO:-0500
TZNAME:EST
DTSTART:20161106T060000
END:STANDARD
BEGIN:DAYLIGHT
TZOFFSETFROM:-0500
TZOFFSETTO:-0400
TZNAME:EDT
DTSTART:20170312T070000
END:DAYLIGHT
BEGIN:STANDARD
TZOFFSETFROM:-0400
TZOFFSETTO:-0500
TZNAME:EST
DTSTART:20171105T060000
END:STANDARD
END:VTIMEZONE
BEGIN:VEVENT
DTSTART;TZID=America/New_York:20160325T173000
DTEND;TZID=America/New_York:20160325T181500
DTSTAMP:20260425T063846
CREATED:20160325T093032Z
LAST-MODIFIED:20160319T052618Z
UID:404-1458927000-1458929700@pacafricancultures.org
SUMMARY:Little Hands Rhythms and Beats!
DESCRIPTION:Every Friday drumming lessons for ages 4-9 years old.
URL:https://pacafricancultures.org/event/little-hands-rhythms-and-beats/
LOCATION:MD
END:VEVENT
BEGIN:VEVENT
DTSTART;TZID=America/New_York:20160324T183000
DTEND;TZID=America/New_York:20160324T191500
DTSTAMP:20260425T063846
CREATED:20160210T230307Z
LAST-MODIFIED:20160319T053153Z
UID:373-1458844200-1458846900@pacafricancultures.org
SUMMARY:African Dance and Drumming
DESCRIPTION:Every Thursday\, Ages 4-12.
URL:https://pacafricancultures.org/event/african-dance-and-drumming/
LOCATION:PACAC\, 8576 Laureldale Drive\, Laurel\, MD\, 20724\, United States
GEO:39.1018579;-76.8216453
X-APPLE-STRUCTURED-LOCATION;VALUE=URI;X-ADDRESS=PACAC 8576 Laureldale Drive Laurel MD 20724 United States;X-APPLE-RADIUS=500;X-TITLE=8576 Laureldale Drive:geo:-76.8216453,39.1018579
END:VEVENT
BEGIN:VEVENT
DTSTART;TZID=America/New_York:20160319T093000
DTEND;TZID=America/New_York:20160319T103000
DTSTAMP:20260425T063846
CREATED:20160319T061008Z
LAST-MODIFIED:20180730T040156Z
UID:410-1458379800-1458383400@pacafricancultures.org
SUMMARY:BESA African Dance Workout
DESCRIPTION:BESA Workout is an exercise with forms and techniques created from African dances. “Besa” is an Akan (Ghanaian) word meaning “come dance”. This aerobic exercise is a great cardio workout!
URL:https://pacafricancultures.org/event/besa-workout/2016-03-19/
LOCATION:PACAC\, 8576 Laureldale Drive\, Laurel\, MD\, 20724\, United States
ATTACH;FMTTYPE=image/jpeg:https://pacafricancultures.org/wp-content/uploads/2016/03/FeatureIMGBesa5.jpg
GEO:39.1018579;-76.8216453
X-APPLE-STRUCTURED-LOCATION;VALUE=URI;X-ADDRESS=PACAC 8576 Laureldale Drive Laurel MD 20724 United States;X-APPLE-RADIUS=500;X-TITLE=8576 Laureldale Drive:geo:-76.8216453,39.1018579
END:VEVENT
BEGIN:VEVENT
DTSTART;TZID=America/New_York:20160315T190000
DTEND;TZID=America/New_York:20160315T202000
DTSTAMP:20260425T063846
CREATED:20160317T103011Z
LAST-MODIFIED:20160315T043104Z
UID:374-1458068400-1458073200@pacafricancultures.org
SUMMARY:African Dance Class
DESCRIPTION:Every Tuesday
URL:https://pacafricancultures.org/event/african-dance-and-drumming-2/
LOCATION:PACAC\, 8576 Laureldale Drive\, Laurel\, MD\, 20724\, United States
GEO:39.1018579;-76.8216453
X-APPLE-STRUCTURED-LOCATION;VALUE=URI;X-ADDRESS=PACAC 8576 Laureldale Drive Laurel MD 20724 United States;X-APPLE-RADIUS=500;X-TITLE=8576 Laureldale Drive:geo:-76.8216453,39.1018579
END:VEVENT
BEGIN:VEVENT
DTSTART;TZID=America/New_York:20160314T193000
DTEND;TZID=America/New_York:20160314T203000
DTSTAMP:20260425T063846
CREATED:20160314T131627Z
LAST-MODIFIED:20160314T131627Z
UID:397-1457983800-1457987400@pacafricancultures.org
SUMMARY:Besa African Dance Workout
DESCRIPTION:
URL:https://pacafricancultures.org/event/besa-african-dance-workout/
LOCATION:PACAC\, 8576 Laureldale Drive\, Laurel\, 20724\, United States
GEO:39.1018579;-76.8216453
X-APPLE-STRUCTURED-LOCATION;VALUE=URI;X-ADDRESS=PACAC 8576 Laureldale Drive Laurel 20724 United States;X-APPLE-RADIUS=500;X-TITLE=8576 Laureldale Drive:geo:-76.8216453,39.1018579
END:VEVENT
END:VCALENDAR