BEGIN:VCALENDAR
VERSION:2.0
PRODID:-//Performing Arts Center For African Cultures - ECPv6.15.20//NONSGML v1.0//EN
CALSCALE:GREGORIAN
METHOD:PUBLISH
X-WR-CALNAME:Performing Arts Center For African Cultures
X-ORIGINAL-URL:https://pacafricancultures.org
X-WR-CALDESC:Events for Performing Arts Center For African Cultures
REFRESH-INTERVAL;VALUE=DURATION:PT1H
X-Robots-Tag:noindex
X-PUBLISHED-TTL:PT1H
BEGIN:VTIMEZONE
TZID:America/New_York
BEGIN:DAYLIGHT
TZOFFSETFROM:-0500
TZOFFSETTO:-0400
TZNAME:EDT
DTSTART:20150308T070000
END:DAYLIGHT
BEGIN:STANDARD
TZOFFSETFROM:-0400
TZOFFSETTO:-0500
TZNAME:EST
DTSTART:20151101T060000
END:STANDARD
BEGIN:DAYLIGHT
TZOFFSETFROM:-0500
TZOFFSETTO:-0400
TZNAME:EDT
DTSTART:20160313T070000
END:DAYLIGHT
BEGIN:STANDARD
TZOFFSETFROM:-0400
TZOFFSETTO:-0500
TZNAME:EST
DTSTART:20161106T060000
END:STANDARD
BEGIN:DAYLIGHT
TZOFFSETFROM:-0500
TZOFFSETTO:-0400
TZNAME:EDT
DTSTART:20170312T070000
END:DAYLIGHT
BEGIN:STANDARD
TZOFFSETFROM:-0400
TZOFFSETTO:-0500
TZNAME:EST
DTSTART:20171105T060000
END:STANDARD
BEGIN:DAYLIGHT
TZOFFSETFROM:-0500
TZOFFSETTO:-0400
TZNAME:EDT
DTSTART:20180311T070000
END:DAYLIGHT
BEGIN:STANDARD
TZOFFSETFROM:-0400
TZOFFSETTO:-0500
TZNAME:EST
DTSTART:20181104T060000
END:STANDARD
BEGIN:DAYLIGHT
TZOFFSETFROM:-0500
TZOFFSETTO:-0400
TZNAME:EDT
DTSTART:20190310T070000
END:DAYLIGHT
BEGIN:STANDARD
TZOFFSETFROM:-0400
TZOFFSETTO:-0500
TZNAME:EST
DTSTART:20191103T060000
END:STANDARD
BEGIN:DAYLIGHT
TZOFFSETFROM:-0500
TZOFFSETTO:-0400
TZNAME:EDT
DTSTART:20200308T070000
END:DAYLIGHT
BEGIN:STANDARD
TZOFFSETFROM:-0400
TZOFFSETTO:-0500
TZNAME:EST
DTSTART:20201101T060000
END:STANDARD
BEGIN:DAYLIGHT
TZOFFSETFROM:-0500
TZOFFSETTO:-0400
TZNAME:EDT
DTSTART:20210314T070000
END:DAYLIGHT
BEGIN:STANDARD
TZOFFSETFROM:-0400
TZOFFSETTO:-0500
TZNAME:EST
DTSTART:20211107T060000
END:STANDARD
BEGIN:DAYLIGHT
TZOFFSETFROM:-0500
TZOFFSETTO:-0400
TZNAME:EDT
DTSTART:20220313T070000
END:DAYLIGHT
BEGIN:STANDARD
TZOFFSETFROM:-0400
TZOFFSETTO:-0500
TZNAME:EST
DTSTART:20221106T060000
END:STANDARD
BEGIN:DAYLIGHT
TZOFFSETFROM:-0500
TZOFFSETTO:-0400
TZNAME:EDT
DTSTART:20230312T070000
END:DAYLIGHT
BEGIN:STANDARD
TZOFFSETFROM:-0400
TZOFFSETTO:-0500
TZNAME:EST
DTSTART:20231105T060000
END:STANDARD
BEGIN:DAYLIGHT
TZOFFSETFROM:-0500
TZOFFSETTO:-0400
TZNAME:EDT
DTSTART:20240310T070000
END:DAYLIGHT
BEGIN:STANDARD
TZOFFSETFROM:-0400
TZOFFSETTO:-0500
TZNAME:EST
DTSTART:20241103T060000
END:STANDARD
BEGIN:DAYLIGHT
TZOFFSETFROM:-0500
TZOFFSETTO:-0400
TZNAME:EDT
DTSTART:20250309T070000
END:DAYLIGHT
BEGIN:STANDARD
TZOFFSETFROM:-0400
TZOFFSETTO:-0500
TZNAME:EST
DTSTART:20251102T060000
END:STANDARD
BEGIN:DAYLIGHT
TZOFFSETFROM:-0500
TZOFFSETTO:-0400
TZNAME:EDT
DTSTART:20260308T070000
END:DAYLIGHT
BEGIN:STANDARD
TZOFFSETFROM:-0400
TZOFFSETTO:-0500
TZNAME:EST
DTSTART:20261101T060000
END:STANDARD
BEGIN:DAYLIGHT
TZOFFSETFROM:-0500
TZOFFSETTO:-0400
TZNAME:EDT
DTSTART:20270314T070000
END:DAYLIGHT
BEGIN:STANDARD
TZOFFSETFROM:-0400
TZOFFSETTO:-0500
TZNAME:EST
DTSTART:20271107T060000
END:STANDARD
END:VTIMEZONE
BEGIN:VEVENT
DTSTART;TZID=America/New_York:20260923T190000
DTEND;TZID=America/New_York:20260923T200000
DTSTAMP:20260425T072829
CREATED:20180501T133029Z
LAST-MODIFIED:20180501T133029Z
UID:4419-1790190000-1790193600@pacafricancultures.org
SUMMARY:Traditional African Dance Class
DESCRIPTION:NEW AT PACAC! Our African Dance Class gives our students the opportunity to experience practical performances in traditional dance forms from Africa\, including contemporary dance movements. \nThis is an amazing opportunity to study African dance forms with professional\, experienced Artists! \n\n\n                \n                        \n                            Registration\n                             \n                        \n                        Select one:*Monthly Promotion (Unlimited Classes)Group SessionWorkshopPrivate SessionSelect your class:*BESA African Dance WorkoutAfro Soul Line Dance (Starting in July 2019)African Drumming LessonBeats and Rhythms for ChildrenAfrobeatAfro YogaAfroFusionTraditional African Dance LessonTwi Language ClassSelect Month:*June 2019 PromotionJuly 2019 PromotionAugust 2019 PromotionSelect your private lesson*African DrummingAfrican DanceSelect your workshop:*Afro-Cuban Rumba Dance (Sat. Dec. 8\, 2018 from 1:30pm to 3:00pm)How many sessions?*1 Session10 SessionsHow many private sessions?*1 Session6 SessionsHow many sessions (Afrobeat)*1 Session10 SessionsHow many sessions (Beats & Rhythms for Children)*1 Session12 SessionsHow many sessions (Afro Yoga)*1 Session6 Sessions8 Sessions15 SessionsTotal\n							$0.00\n							\n						Personal InformationName*\n                            \n                            \n                                                    \n                                                    First\n                                                \n                            \n                            \n                                                    \n                                                    Last\n                                                \n                            \n                        Email*\n                            \n                        Phone*Address*    \n                    \n                         \n                                        \n                                        Street Address\n                                    \n                                        \n                                        Address Line 2\n                                    \n                                    \n                                    City\n                                 \n                                        AlabamaAlaskaAmerican SamoaArizonaArkansasCaliforniaColoradoConnecticutDelawareDistrict of ColumbiaFloridaGeorgiaGuamHawaiiIdahoIllinoisIndianaIowaKansasKentuckyLouisianaMaineMarylandMassachusettsMichiganMinnesotaMississippiMissouriMontanaNebraskaNevadaNew HampshireNew JerseyNew MexicoNew YorkNorth CarolinaNorth DakotaNorthern Mariana IslandsOhioOklahomaOregonPennsylvaniaPuerto RicoRhode IslandSouth CarolinaSouth DakotaTennesseeTexasUtahU.S. Virgin IslandsVermontVirginiaWashingtonWest VirginiaWisconsinWyomingArmed Forces AmericasArmed Forces EuropeArmed Forces Pacific\n                                        State\n                                      \n                                    \n                                    ZIP Code\n                                \n                    \n                Age*Under 1818-2425-3435-4445-5455-6465 or AbovePrefer Not to AnswerEthnicity*AsianAfrican AmericanWhiteNative Hawaiian and Other Pacific IslanderHispanic or LatinoAmerican Indian and Alaska NativeOtherAre you a veteran?*\n			\n				\n				Yes\n			\n			\n				\n				No\n			***Contact us for siblings and family discounts***Total\n							$0.00
URL:https://pacafricancultures.org/event/african-dance-class/2026-09-23/
LOCATION:PACAC\, 8576 Laureldale Drive\, Laurel\, MD\, 20724\, United States
GEO:39.1018579;-76.8216453
X-APPLE-STRUCTURED-LOCATION;VALUE=URI;X-ADDRESS=PACAC 8576 Laureldale Drive Laurel MD 20724 United States;X-APPLE-RADIUS=500;X-TITLE=8576 Laureldale Drive:geo:-76.8216453,39.1018579
END:VEVENT
BEGIN:VEVENT
DTSTART;TZID=America/New_York:20260921T200000
DTEND;TZID=America/New_York:20260921T210000
DTSTAMP:20260425T072829
CREATED:20180611T005251Z
LAST-MODIFIED:20180611T005251Z
UID:4418-1790020800-1790024400@pacafricancultures.org
SUMMARY:Afro Yoga
DESCRIPTION:In this class we will take you through the yoga movements with rhythms reflective of the Afro-Caribbean culture. \nBring your mat\, towel and water!
URL:https://pacafricancultures.org/event/afro-yoga/2026-09-21/
LOCATION:PACAC\, 8576 Laureldale Drive\, Laurel\, MD\, 20724\, United States
GEO:39.1018579;-76.8216453
X-APPLE-STRUCTURED-LOCATION;VALUE=URI;X-ADDRESS=PACAC 8576 Laureldale Drive Laurel MD 20724 United States;X-APPLE-RADIUS=500;X-TITLE=8576 Laureldale Drive:geo:-76.8216453,39.1018579
END:VEVENT
BEGIN:VEVENT
DTSTART;TZID=America/New_York:20180907T190000
DTEND;TZID=America/New_York:20180907T220000
DTSTAMP:20260425T072829
CREATED:20180804T123646Z
LAST-MODIFIED:20180804T123646Z
UID:3272-1536346800-1536357600@pacafricancultures.org
SUMMARY:A Tale of Four String Instruments
DESCRIPTION:COME JOIN US CELEBRATE PACAC’S 4TH ANNIVERSARY! \nFour renowned FOLK MUSICIANS collaborate to celebrate Ghana-Mali Folk Music highlighting four unique string instruments\, N’GONI\, SEPREWA\, GOJI\, and KORA! \nGrammy Award nominee\, CHEIKH HAMALA DIABATE\, OSEI KWAME KORANKYE (Guest Artist From Ghana)\, KWAME ANSAH-BREW AND AMADOU KOUYATE are joining forces to unleash the power of folk music stemming from the ancient traditions of West Africa.
URL:https://pacafricancultures.org/event/a-tale-of-four-string-instruments/
LOCATION:PACAC\, 8576 Laureldale Drive\, Laurel\, MD\, 20724\, United States
ATTACH;FMTTYPE=image/jpeg:https://pacafricancultures.org/wp-content/uploads/2018/08/PACAC-4th-Anniversary-Concert-Flyer-Draft-10.jpg
GEO:39.1018579;-76.8216453
X-APPLE-STRUCTURED-LOCATION;VALUE=URI;X-ADDRESS=PACAC 8576 Laureldale Drive Laurel MD 20724 United States;X-APPLE-RADIUS=500;X-TITLE=8576 Laureldale Drive:geo:-76.8216453,39.1018579
END:VEVENT
BEGIN:VEVENT
DTSTART;TZID=America/New_York:20180629T190000
DTEND;TZID=America/New_York:20180629T210000
DTSTAMP:20260425T072829
CREATED:20170127T053535Z
LAST-MODIFIED:20180804T130300Z
UID:408-1530298800-1530306000@pacafricancultures.org
SUMMARY:Community Drum Circle
DESCRIPTION:Kick Start the next month with a FRESH BEAT!
URL:https://pacafricancultures.org/event/community-drum-circle/2018-06-29/
LOCATION:PACAC\, 8576 Laureldale Drive\, Laurel\, MD\, 20724\, United States
ATTACH;FMTTYPE=image/jpeg:https://pacafricancultures.org/wp-content/uploads/2017/01/DRUM-CIRCLE-FULL-FLYER-BANNER.jpg
GEO:39.1018579;-76.8216453
X-APPLE-STRUCTURED-LOCATION;VALUE=URI;X-ADDRESS=PACAC 8576 Laureldale Drive Laurel MD 20724 United States;X-APPLE-RADIUS=500;X-TITLE=8576 Laureldale Drive:geo:-76.8216453,39.1018579
END:VEVENT
BEGIN:VEVENT
DTSTART;TZID=America/New_York:20180626T190000
DTEND;TZID=America/New_York:20180626T200000
DTSTAMP:20260425T072829
CREATED:20180501T111218Z
LAST-MODIFIED:20180804T130535Z
UID:1650-1530039600-1530043200@pacafricancultures.org
SUMMARY:Afro Fusion Dance
DESCRIPTION:
URL:https://pacafricancultures.org/event/afrofusion/2018-06-26/
LOCATION:PACAC\, 8576 Laureldale Drive\, Laurel\, MD\, 20724\, United States
ATTACH;FMTTYPE=image/jpeg:https://pacafricancultures.org/wp-content/uploads/2018/06/Afro-Fusion-Pink-Blue-Rectangles-Bold-Personal-Trainer-Flyer.jpg
GEO:39.1018579;-76.8216453
X-APPLE-STRUCTURED-LOCATION;VALUE=URI;X-ADDRESS=PACAC 8576 Laureldale Drive Laurel MD 20724 United States;X-APPLE-RADIUS=500;X-TITLE=8576 Laureldale Drive:geo:-76.8216453,39.1018579
END:VEVENT
BEGIN:VEVENT
DTSTART;TZID=America/New_York:20180620T190000
DTEND;TZID=America/New_York:20180620T200000
DTSTAMP:20260425T072829
CREATED:20180619T011714Z
LAST-MODIFIED:20180619T011714Z
UID:2823-1529521200-1529524800@pacafricancultures.org
SUMMARY:Traditional African Dance Lessons
DESCRIPTION:
URL:https://pacafricancultures.org/event/traditional-african-dance-lessons/2018-06-20/
LOCATION:PACAC\, 8576 Laureldale Drive\, Laurel\, MD\, 20724\, United States
GEO:39.1018579;-76.8216453
X-APPLE-STRUCTURED-LOCATION;VALUE=URI;X-ADDRESS=PACAC 8576 Laureldale Drive Laurel MD 20724 United States;X-APPLE-RADIUS=500;X-TITLE=8576 Laureldale Drive:geo:-76.8216453,39.1018579
END:VEVENT
BEGIN:VEVENT
DTSTART;TZID=America/New_York:20180505T150000
DTEND;TZID=America/New_York:20180505T153000
DTSTAMP:20260425T072829
CREATED:20180501T132758Z
LAST-MODIFIED:20180501T133553Z
UID:1951-1525532400-1525534200@pacafricancultures.org
SUMMARY:Beats and Rhythms for Little Hands
DESCRIPTION:Beats and Rhythms for Little Hands is a program designed to introduce children (ages 2-5) to African cultures and music at an early age. This impacts listening schools\, motor skills\, leadership skills\, social development and diversity.
URL:https://pacafricancultures.org/event/beats-and-rhythms-for-little-hands/2018-05-05/
LOCATION:PACAC\, 8576 Laureldale Drive\, Laurel\, MD\, 20724\, United States
GEO:39.1018579;-76.8216453
X-APPLE-STRUCTURED-LOCATION;VALUE=URI;X-ADDRESS=PACAC 8576 Laureldale Drive Laurel MD 20724 United States;X-APPLE-RADIUS=500;X-TITLE=8576 Laureldale Drive:geo:-76.8216453,39.1018579
END:VEVENT
BEGIN:VEVENT
DTSTART;TZID=America/New_York:20180202T190000
DTEND;TZID=America/New_York:20180202T200000
DTSTAMP:20260425T072829
CREATED:20180111T210244Z
LAST-MODIFIED:20180117T190219Z
UID:1209-1517598000-1517601600@pacafricancultures.org
SUMMARY:Afrobeat Fridays
DESCRIPTION:Join us for a fun Afrobeat cardio workout to start your weekend off!
URL:https://pacafricancultures.org/event/afrobeat-fridays/2018-02-02/
LOCATION:PACAC\, 8576 Laureldale Drive\, Laurel\, MD\, 20724\, United States
ATTACH;FMTTYPE=image/png:https://pacafricancultures.org/wp-content/uploads/2018/01/Ajeteydance.png
GEO:39.1018579;-76.8216453
X-APPLE-STRUCTURED-LOCATION;VALUE=URI;X-ADDRESS=PACAC 8576 Laureldale Drive Laurel MD 20724 United States;X-APPLE-RADIUS=500;X-TITLE=8576 Laureldale Drive:geo:-76.8216453,39.1018579
END:VEVENT
BEGIN:VEVENT
DTSTART;TZID=America/New_York:20160326T140000
DTEND;TZID=America/New_York:20160326T150000
DTSTAMP:20260425T072829
CREATED:20160309T220029Z
LAST-MODIFIED:20160319T055144Z
UID:388-1459000800-1459004400@pacafricancultures.org
SUMMARY:Community Storytelling
DESCRIPTION:Community Storytelling occurs last Saturday of Every month.
URL:https://pacafricancultures.org/event/community-storytelling/
LOCATION:PACAC\, 8576 Laureldale Drive\, Laurel\, MD\, 20724\, United States
GEO:39.1018579;-76.8216453
X-APPLE-STRUCTURED-LOCATION;VALUE=URI;X-ADDRESS=PACAC 8576 Laureldale Drive Laurel MD 20724 United States;X-APPLE-RADIUS=500;X-TITLE=8576 Laureldale Drive:geo:-76.8216453,39.1018579
END:VEVENT
BEGIN:VEVENT
DTSTART;TZID=America/New_York:20160325T190000
DTEND;TZID=America/New_York:20160325T210000
DTSTAMP:20260425T072829
CREATED:20160325T141827Z
LAST-MODIFIED:20160325T141827Z
UID:569-1458932400-1458939600@pacafricancultures.org
SUMMARY:COMMUNITY DRUM CIRCLE CANCELED TODAY!
DESCRIPTION:There will be no Community Drum Circle tonight.
URL:https://pacafricancultures.org/event/community-drum-circle-canceled-today/
LOCATION:PACAC\, 8576 Laureldale Drive\, Laurel\, MD\, 20724\, United States
GEO:39.1018579;-76.8216453
X-APPLE-STRUCTURED-LOCATION;VALUE=URI;X-ADDRESS=PACAC 8576 Laureldale Drive Laurel MD 20724 United States;X-APPLE-RADIUS=500;X-TITLE=8576 Laureldale Drive:geo:-76.8216453,39.1018579
END:VEVENT
BEGIN:VEVENT
DTSTART;TZID=America/New_York:20160325T173000
DTEND;TZID=America/New_York:20160325T181500
DTSTAMP:20260425T072829
CREATED:20160325T093032Z
LAST-MODIFIED:20160319T052618Z
UID:404-1458927000-1458929700@pacafricancultures.org
SUMMARY:Little Hands Rhythms and Beats!
DESCRIPTION:Every Friday drumming lessons for ages 4-9 years old.
URL:https://pacafricancultures.org/event/little-hands-rhythms-and-beats/
LOCATION:MD
END:VEVENT
BEGIN:VEVENT
DTSTART;TZID=America/New_York:20160324T183000
DTEND;TZID=America/New_York:20160324T191500
DTSTAMP:20260425T072829
CREATED:20160210T230307Z
LAST-MODIFIED:20160319T053153Z
UID:373-1458844200-1458846900@pacafricancultures.org
SUMMARY:African Dance and Drumming
DESCRIPTION:Every Thursday\, Ages 4-12.
URL:https://pacafricancultures.org/event/african-dance-and-drumming/
LOCATION:PACAC\, 8576 Laureldale Drive\, Laurel\, MD\, 20724\, United States
GEO:39.1018579;-76.8216453
X-APPLE-STRUCTURED-LOCATION;VALUE=URI;X-ADDRESS=PACAC 8576 Laureldale Drive Laurel MD 20724 United States;X-APPLE-RADIUS=500;X-TITLE=8576 Laureldale Drive:geo:-76.8216453,39.1018579
END:VEVENT
BEGIN:VEVENT
DTSTART;TZID=America/New_York:20160319T093000
DTEND;TZID=America/New_York:20160319T103000
DTSTAMP:20260425T072829
CREATED:20160319T061008Z
LAST-MODIFIED:20180730T040156Z
UID:410-1458379800-1458383400@pacafricancultures.org
SUMMARY:BESA African Dance Workout
DESCRIPTION:BESA Workout is an exercise with forms and techniques created from African dances. “Besa” is an Akan (Ghanaian) word meaning “come dance”. This aerobic exercise is a great cardio workout!
URL:https://pacafricancultures.org/event/besa-workout/2016-03-19/
LOCATION:PACAC\, 8576 Laureldale Drive\, Laurel\, MD\, 20724\, United States
ATTACH;FMTTYPE=image/jpeg:https://pacafricancultures.org/wp-content/uploads/2016/03/FeatureIMGBesa5.jpg
GEO:39.1018579;-76.8216453
X-APPLE-STRUCTURED-LOCATION;VALUE=URI;X-ADDRESS=PACAC 8576 Laureldale Drive Laurel MD 20724 United States;X-APPLE-RADIUS=500;X-TITLE=8576 Laureldale Drive:geo:-76.8216453,39.1018579
END:VEVENT
BEGIN:VEVENT
DTSTART;TZID=America/New_York:20160315T190000
DTEND;TZID=America/New_York:20160315T202000
DTSTAMP:20260425T072829
CREATED:20160317T103011Z
LAST-MODIFIED:20160315T043104Z
UID:374-1458068400-1458073200@pacafricancultures.org
SUMMARY:African Dance Class
DESCRIPTION:Every Tuesday
URL:https://pacafricancultures.org/event/african-dance-and-drumming-2/
LOCATION:PACAC\, 8576 Laureldale Drive\, Laurel\, MD\, 20724\, United States
GEO:39.1018579;-76.8216453
X-APPLE-STRUCTURED-LOCATION;VALUE=URI;X-ADDRESS=PACAC 8576 Laureldale Drive Laurel MD 20724 United States;X-APPLE-RADIUS=500;X-TITLE=8576 Laureldale Drive:geo:-76.8216453,39.1018579
END:VEVENT
BEGIN:VEVENT
DTSTART;TZID=America/New_York:20160314T193000
DTEND;TZID=America/New_York:20160314T203000
DTSTAMP:20260425T072829
CREATED:20160314T131627Z
LAST-MODIFIED:20160314T131627Z
UID:397-1457983800-1457987400@pacafricancultures.org
SUMMARY:Besa African Dance Workout
DESCRIPTION:
URL:https://pacafricancultures.org/event/besa-african-dance-workout/
LOCATION:PACAC\, 8576 Laureldale Drive\, Laurel\, 20724\, United States
GEO:39.1018579;-76.8216453
X-APPLE-STRUCTURED-LOCATION;VALUE=URI;X-ADDRESS=PACAC 8576 Laureldale Drive Laurel 20724 United States;X-APPLE-RADIUS=500;X-TITLE=8576 Laureldale Drive:geo:-76.8216453,39.1018579
END:VEVENT
END:VCALENDAR